BEGIN:VCALENDAR
VERSION:2.0
PRODID:-//Atrium Health Foundation - ECPv5.16.4//NONSGML v1.0//EN
CALSCALE:GREGORIAN
METHOD:PUBLISH
X-WR-CALNAME:Atrium Health Foundation
X-ORIGINAL-URL:https://atriumhealthfoundation.org
X-WR-CALDESC:Events for Atrium Health Foundation
BEGIN:VTIMEZONE
TZID:America/New_York
BEGIN:DAYLIGHT
TZOFFSETFROM:-0500
TZOFFSETTO:-0400
TZNAME:EDT
DTSTART:20260308T070000
END:DAYLIGHT
BEGIN:STANDARD
TZOFFSETFROM:-0400
TZOFFSETTO:-0500
TZNAME:EST
DTSTART:20261101T060000
END:STANDARD
END:VTIMEZONE
BEGIN:VEVENT
DTSTART;TZID=America/New_York:20260411T070000
DTEND;TZID=America/New_York:20260411T110000
DTSTAMP:20260425T101046
CREATED:20260225T215337Z
LAST-MODIFIED:20260406T145703Z
UID:11051-1775890800-1775905200@atriumhealthfoundation.org
SUMMARY:Sarcoma Stomp
DESCRIPTION:The Sarcoma Stomp\, presented by Amwins\, is the signature fundraiser of The Paula Takacs Foundation for Sarcoma Research\, held in Charlotte\, NC since 2011. \nThis 5K run and 3K walk event is one of the largest sarcoma events of it’s kind in the United States.  It is known for its many team participants\, great vibe and uplifting spirit! We are excited for this year’s big after-race party\, featuring music\, food trucks\, games\, and so much more! \nPartners in Health: \nThe Paula Takacs Foundation is a dedicated philanthropic partner to Atrium Health Foundation\, supporting cutting-edge sarcoma research at Atrium Health Levine Cancer Institute and Atrium Health Levine Children’s Hospital in Charlotte\, NC.
URL:https://atriumhealthfoundation.org/event/sarcoma-stomp-2/
LOCATION:Christ Lutheran Church\, 4545 Providence Road\, Charlotte\, NC
CATEGORIES:Cancer,Featured Event Home Page
ATTACH;FMTTYPE=image/png:https://atriumhealthfoundation.org/wp-content/uploads/2026/02/Screenshot-2026-02-25-at-4.51.13-PM.png
END:VEVENT
END:VCALENDAR